BEGIN:VCALENDAR
VERSION:2.0
PRODID:-//South Michigan Food Bank - ECPv6.15.20//NONSGML v1.0//EN
CALSCALE:GREGORIAN
METHOD:PUBLISH
X-ORIGINAL-URL:https://smfoodbank.org
X-WR-CALDESC:Events for South Michigan Food Bank
REFRESH-INTERVAL;VALUE=DURATION:PT1H
X-Robots-Tag:noindex
X-PUBLISHED-TTL:PT1H
BEGIN:VTIMEZONE
TZID:America/Detroit
BEGIN:DAYLIGHT
TZOFFSETFROM:-0500
TZOFFSETTO:-0400
TZNAME:EDT
DTSTART:20250309T070000
END:DAYLIGHT
BEGIN:STANDARD
TZOFFSETFROM:-0400
TZOFFSETTO:-0500
TZNAME:EST
DTSTART:20251102T060000
END:STANDARD
BEGIN:DAYLIGHT
TZOFFSETFROM:-0500
TZOFFSETTO:-0400
TZNAME:EDT
DTSTART:20260308T070000
END:DAYLIGHT
BEGIN:STANDARD
TZOFFSETFROM:-0400
TZOFFSETTO:-0500
TZNAME:EST
DTSTART:20261101T060000
END:STANDARD
BEGIN:DAYLIGHT
TZOFFSETFROM:-0500
TZOFFSETTO:-0400
TZNAME:EDT
DTSTART:20270314T070000
END:DAYLIGHT
BEGIN:STANDARD
TZOFFSETFROM:-0400
TZOFFSETTO:-0500
TZNAME:EST
DTSTART:20271107T060000
END:STANDARD
END:VTIMEZONE
BEGIN:VEVENT
DTSTART;TZID=America/Detroit:20260601T160000
DTEND;TZID=America/Detroit:20260601T160000
DTSTAMP:20260420T084110
CREATED:20240304T210627Z
LAST-MODIFIED:20260324T174029Z
UID:5423-1780329600-1780329600@smfoodbank.org
SUMMARY:Community Care Event - Chick-Fil-A Battle Creek
DESCRIPTION:Join in and help a neighbor facing food insecurity! \nAll mobile orders\, as well as all Catering orders placed day of (even if fulfilled at a later date)\, will support South Michigan Food Bank.  \nHave a “No Cook Day” and enjoy your favorite items! Bring hope back to the table and support a neighbor facing food insecurity. Join us on our mission to end hunger! \nThank you Chick Fil A of Battle Creek for being our partner!
URL:https://smfoodbank.org/event/community-care-event-chick-fil-a-battle-creek/
CATEGORIES:Community Partnerships
ATTACH;FMTTYPE=image/jpeg:https://smfoodbank.org/wp-content/uploads/South-MI-Food-Bank-JUNE.-CFA.jpg
END:VEVENT
BEGIN:VEVENT
DTSTART;VALUE=DATE:20260613
DTEND;VALUE=DATE:20260614
DTSTAMP:20260420T084110
CREATED:20260113T143019Z
LAST-MODIFIED:20260113T143311Z
UID:7568-1781308800-1781395199@smfoodbank.org
SUMMARY:PBfest
DESCRIPTION:We are excited to partner with the inaugural PBfest!  \nInspired by the legacy of J.H. Kellogg\, the festival celebrates the innovations that continue to change how we eat\, and encourages creative ways to maximize and enjoy the food in our kitchens. Battle Creek invented cereal\, and spread peanut butter. \nThe founders of PBfest are interested in spreading that love to Battle Creek\, definitely being good stewards\, and not overlooking those in need. PBfest donation Jars will be located throughout the city\, and we shall do our part to distribute to our neighbors facing food insecurity!  \nPlease visit the PBfest website for information\, fun facts and a way to get involved. https://pbfest.org/
URL:https://smfoodbank.org/event/pbfest/
ATTACH;FMTTYPE=image/png:https://smfoodbank.org/wp-content/uploads/PB-Fest.png
END:VEVENT
END:VCALENDAR